BEGIN:VCALENDAR
METHOD:PUBLISH
PRODID:-//github.com/rianjs/ical.net//NONSGML ical.net 4.0//EN
VERSION:2.0
BEGIN:VTIMEZONE
TZID:Australia/Sydney
X-LIC-LOCATION:Australia/Sydney
BEGIN:STANDARD
DTSTART:20250406T030000
RRULE:FREQ=YEARLY;BYDAY=1SU;BYMONTH=4
TZNAME:AEST
TZOFFSETFROM:+1100
TZOFFSETTO:+1000
END:STANDARD
BEGIN:DAYLIGHT
DTSTART:20241006T040000
RRULE:FREQ=YEARLY;BYDAY=1SU;BYMONTH=10
TZNAME:AEDT
TZOFFSETFROM:+1000
TZOFFSETTO:+0900
END:DAYLIGHT
END:VTIMEZONE
BEGIN:VEVENT
DESCRIPTION;LANGUAGE=en-AU:To be held at Mortlake Council Chambers\nhttps:
 //www.moyne.vic.gov.au/Minutes-and-agendas/Copy-of-Ordinary-Council-Meeti
 ng-April-2026
DTEND:20260428T235959
DTSTAMP:20260424T002912Z
DTSTART:20260428T130000
LOCATION:
SEQUENCE:0
SUMMARY;LANGUAGE=en-AU:28 Apr 2026 - Ordinary Meeting
UID:OpenCities.c9c46edc-d847-4b58-91d1-4de2d664c69d.28002026130400
BEGIN:VALARM
ACTION:DISPLAY
DESCRIPTION:Reminder
DURATION:P0D
TRIGGER:P0D
END:VALARM
END:VEVENT
END:VCALENDAR
